BEGIN:VCALENDAR
VERSION:2.0
PRODID:-//Tulane Hillel - ECPv6.15.17.1//NONSGML v1.0//EN
CALSCALE:GREGORIAN
METHOD:PUBLISH
X-WR-CALNAME:Tulane Hillel
X-ORIGINAL-URL:https://tulanehillel.org
X-WR-CALDESC:Events for Tulane Hillel
REFRESH-INTERVAL;VALUE=DURATION:PT1H
X-Robots-Tag:noindex
X-PUBLISHED-TTL:PT1H
BEGIN:VTIMEZONE
TZID:America/Chicago
BEGIN:DAYLIGHT
TZOFFSETFROM:-0600
TZOFFSETTO:-0500
TZNAME:CDT
DTSTART:20230312T080000
END:DAYLIGHT
BEGIN:STANDARD
TZOFFSETFROM:-0500
TZOFFSETTO:-0600
TZNAME:CST
DTSTART:20231105T070000
END:STANDARD
BEGIN:DAYLIGHT
TZOFFSETFROM:-0600
TZOFFSETTO:-0500
TZNAME:CDT
DTSTART:20240310T080000
END:DAYLIGHT
BEGIN:STANDARD
TZOFFSETFROM:-0500
TZOFFSETTO:-0600
TZNAME:CST
DTSTART:20241103T070000
END:STANDARD
BEGIN:DAYLIGHT
TZOFFSETFROM:-0600
TZOFFSETTO:-0500
TZNAME:CDT
DTSTART:20250309T080000
END:DAYLIGHT
BEGIN:STANDARD
TZOFFSETFROM:-0500
TZOFFSETTO:-0600
TZNAME:CST
DTSTART:20251102T070000
END:STANDARD
END:VTIMEZONE
BEGIN:VEVENT
DTSTART;TZID=America/Chicago:20240302T080000
DTEND;TZID=America/Chicago:20240302T160000
DTSTAMP:20260418T073358
CREATED:20240215T181920Z
LAST-MODIFIED:20240302T215056Z
UID:10000107-1709366400-1709395200@tulanehillel.org
SUMMARY:Costal Restoration Volunteering
DESCRIPTION:
URL:https://tulanehillel.org/event/costal-restoration-volunteering/
LOCATION:Coalition to Restore Coastal Louisiana (3801 Canal St Ste 400\, New Orleans\, LA 70119\, United States)
END:VEVENT
END:VCALENDAR